BEGIN:VCALENDAR
VERSION:2.0
PRODID:-//Northern Colorado Community - ECPv6.15.20//NONSGML v1.0//EN
CALSCALE:GREGORIAN
METHOD:PUBLISH
X-WR-CALNAME:Northern Colorado Community
X-ORIGINAL-URL:https://northerncoloradocommunity.com
X-WR-CALDESC:Events for Northern Colorado Community
REFRESH-INTERVAL;VALUE=DURATION:PT1H
X-Robots-Tag:noindex
X-PUBLISHED-TTL:PT1H
BEGIN:VTIMEZONE
TZID:America/Denver
BEGIN:DAYLIGHT
TZOFFSETFROM:-0700
TZOFFSETTO:-0600
TZNAME:MDT
DTSTART:20250309T090000
END:DAYLIGHT
BEGIN:STANDARD
TZOFFSETFROM:-0600
TZOFFSETTO:-0700
TZNAME:MST
DTSTART:20251102T080000
END:STANDARD
BEGIN:DAYLIGHT
TZOFFSETFROM:-0700
TZOFFSETTO:-0600
TZNAME:MDT
DTSTART:20260308T090000
END:DAYLIGHT
BEGIN:STANDARD
TZOFFSETFROM:-0600
TZOFFSETTO:-0700
TZNAME:MST
DTSTART:20261101T080000
END:STANDARD
BEGIN:DAYLIGHT
TZOFFSETFROM:-0700
TZOFFSETTO:-0600
TZNAME:MDT
DTSTART:20270314T090000
END:DAYLIGHT
BEGIN:STANDARD
TZOFFSETFROM:-0600
TZOFFSETTO:-0700
TZNAME:MST
DTSTART:20271107T080000
END:STANDARD
END:VTIMEZONE
BEGIN:VEVENT
DTSTART;TZID=America/Denver:20260824T180000
DTEND;TZID=America/Denver:20260824T200000
DTSTAMP:20260424T075754
CREATED:20260408T142852Z
LAST-MODIFIED:20260408T142852Z
UID:54479-1787594400-1787601600@northerncoloradocommunity.com
SUMMARY:August\, 2026 Activity Event
DESCRIPTION:On Monday\, August 24 from 6-8 pm. Flipside at 140 E. Fourth Street in Loveland will be the location for Northern Colorado Community’s annual activity night. Free for all members. Sponsored by Ann Baron. Play fun Arcade games while enjoying snacks.  Member exclusive event.
URL:https://northerncoloradocommunity.com/event/august-2026-activity-event/
LOCATION:Flipside\, 250 Jefferson Street\, Ft. Collins\, CO\, 80524\, United States
CATEGORIES:Activity Night
ATTACH;FMTTYPE=image/png:https://northerncoloradocommunity.com/wp-content/uploads/flipside-loveland.png
ORGANIZER;CN="Ann Baron - Northern Colorado Community":MAILTO:ann@northerncoloradocommunity.com
END:VEVENT
BEGIN:VEVENT
DTSTART;TZID=America/Denver:20260920T130000
DTEND;TZID=America/Denver:20260920T150000
DTSTAMP:20260424T075754
CREATED:20260408T142315Z
LAST-MODIFIED:20260408T144016Z
UID:54477-1789909200-1789916400@northerncoloradocommunity.com
SUMMARY:Northern Colorado Community-10 Year Anniversary Celebration
DESCRIPTION:On Sunday\, September 20th\, from 1-3 pm we will be celebrating the 10 year anniversary of Northern Colorado Community. \nThis is a free\, member exclusive event sponsored by Ann Baron. Food/Soft Drinks will be provided by Ann.  Jessie Wang\, a professional photographer\, will be taking pictures at this great event.
URL:https://northerncoloradocommunity.com/event/northern-colorado-community-10-year-anniversary-celebration/
LOCATION:Mary Doty-Airbnb\, 622 East Eighth Street\, Loveland\, CO\, 80537\, United States
CATEGORIES:Special Member Events
ATTACH;FMTTYPE=image/png:https://northerncoloradocommunity.com/wp-content/uploads/doty-e8-bnb.png
ORGANIZER;CN="Ann Baron - Northern Colorado Community":MAILTO:ann@northerncoloradocommunity.com
END:VEVENT
END:VCALENDAR