BEGIN:VCALENDAR
VERSION:2.0
PRODID:-//Northern Colorado Community - ECPv6.15.20//NONSGML v1.0//EN
CALSCALE:GREGORIAN
METHOD:PUBLISH
X-WR-CALNAME:Northern Colorado Community
X-ORIGINAL-URL:https://northerncoloradocommunity.com
X-WR-CALDESC:Events for Northern Colorado Community
REFRESH-INTERVAL;VALUE=DURATION:PT1H
X-Robots-Tag:noindex
X-PUBLISHED-TTL:PT1H
BEGIN:VTIMEZONE
TZID:America/Denver
BEGIN:DAYLIGHT
TZOFFSETFROM:-0700
TZOFFSETTO:-0600
TZNAME:MDT
DTSTART:20250309T090000
END:DAYLIGHT
BEGIN:STANDARD
TZOFFSETFROM:-0600
TZOFFSETTO:-0700
TZNAME:MST
DTSTART:20251102T080000
END:STANDARD
BEGIN:DAYLIGHT
TZOFFSETFROM:-0700
TZOFFSETTO:-0600
TZNAME:MDT
DTSTART:20260308T090000
END:DAYLIGHT
BEGIN:STANDARD
TZOFFSETFROM:-0600
TZOFFSETTO:-0700
TZNAME:MST
DTSTART:20261101T080000
END:STANDARD
BEGIN:DAYLIGHT
TZOFFSETFROM:-0700
TZOFFSETTO:-0600
TZNAME:MDT
DTSTART:20270314T090000
END:DAYLIGHT
BEGIN:STANDARD
TZOFFSETFROM:-0600
TZOFFSETTO:-0700
TZNAME:MST
DTSTART:20271107T080000
END:STANDARD
END:VTIMEZONE
BEGIN:VEVENT
DTSTART;TZID=America/Denver:20260225T173000
DTEND;TZID=America/Denver:20260225T193000
DTSTAMP:20260424T081735
CREATED:20260217T141240Z
LAST-MODIFIED:20260217T141240Z
UID:54420-1772040600-1772047800@northerncoloradocommunity.com
SUMMARY:CPR/First Aid Class
DESCRIPTION:One of  Northern Colorado Community members\, Joe Cox of Nagi Luna Enterprises\, is offering this class. He teaches these courses all over the country and locally. If you need to get your First Aid certificate or brush up then here’s a great workshop for you. It will be on Wednesday\, February 25 from 5:30-7:30 pm at Casa Sagrada\, 404 E. Third Street\, Loveland\, Colorado.  Donations accepted. Open for members and guests if room. Learn valuable information.
URL:https://northerncoloradocommunity.com/event/cpr-first-aid-class/
LOCATION:Casa Sagrada\, 404 E. Third St.\, Loveland\, CO\, 80538\, United States
CATEGORIES:Special Member Events
ATTACH;FMTTYPE=image/jpeg:https://northerncoloradocommunity.com/wp-content/uploads/Casa-Sagrada.jpg
ORGANIZER;CN="Ann Baron - Northern Colorado Community":MAILTO:ann@northerncoloradocommunity.com
END:VEVENT
BEGIN:VEVENT
DTSTART;TZID=America/Denver:20260216T180000
DTEND;TZID=America/Denver:20260216T200000
DTSTAMP:20260424T081735
CREATED:20260203T191605Z
LAST-MODIFIED:20260203T191605Z
UID:54400-1771264800-1771272000@northerncoloradocommunity.com
SUMMARY:Member only Activity Event
DESCRIPTION:On February 16 from 6-8 pm we will be going to Pinspiration Loveland at 5665 McWhinney Blvd.\, Loveland\, CO to do a fun Splatter Room activity. This is a free event for members only.  Ann will provide snacks. Beverages can be purchased at Pinspiration. Free and member exclusive.
URL:https://northerncoloradocommunity.com/event/member-only-activity-event/
LOCATION:Pinspiration Loveland\, 5665 McWhinney Blvd.\, Loveland\, CO\, 80538\, United States
CATEGORIES:Activity Night
ATTACH;FMTTYPE=image/jpeg:https://northerncoloradocommunity.com/wp-content/uploads/pinspiration-loveland.jpg
ORGANIZER;CN="Ann Baron - Northern Colorado Community":MAILTO:ann@northerncoloradocommunity.com
END:VEVENT
BEGIN:VEVENT
DTSTART;TZID=America/Denver:20260206T163000
DTEND;TZID=America/Denver:20260206T183000
DTSTAMP:20260424T081735
CREATED:20260203T184945Z
LAST-MODIFIED:20260203T184945Z
UID:54385-1770395400-1770402600@northerncoloradocommunity.com
SUMMARY:Happy Hour
DESCRIPTION:Free and open to first time guests and members of Northern Colorado Community. These are at different locations on the first Friday of each month.
URL:https://northerncoloradocommunity.com/event/happy-hour/
LOCATION:Crooked Beech Brewing\, 3121 N. Garfield Ave\, Loveland\, CO\, 80538\, United States
CATEGORIES:Happy Hour
ATTACH;FMTTYPE=image/jpeg:https://northerncoloradocommunity.com/wp-content/uploads/crooked-beach-brewing.jpg
ORGANIZER;CN="Ann Baron - Northern Colorado Community":MAILTO:ann@northerncoloradocommunity.com
END:VEVENT
END:VCALENDAR