BEGIN:VCALENDAR
VERSION:2.0
PRODID:-//Northern Colorado Community - ECPv6.15.20//NONSGML v1.0//EN
CALSCALE:GREGORIAN
METHOD:PUBLISH
X-WR-CALNAME:Northern Colorado Community
X-ORIGINAL-URL:https://northerncoloradocommunity.com
X-WR-CALDESC:Events for Northern Colorado Community
REFRESH-INTERVAL;VALUE=DURATION:PT1H
X-Robots-Tag:noindex
X-PUBLISHED-TTL:PT1H
BEGIN:VTIMEZONE
TZID:America/Denver
BEGIN:DAYLIGHT
TZOFFSETFROM:-0700
TZOFFSETTO:-0600
TZNAME:MDT
DTSTART:20250309T090000
END:DAYLIGHT
BEGIN:STANDARD
TZOFFSETFROM:-0600
TZOFFSETTO:-0700
TZNAME:MST
DTSTART:20251102T080000
END:STANDARD
BEGIN:DAYLIGHT
TZOFFSETFROM:-0700
TZOFFSETTO:-0600
TZNAME:MDT
DTSTART:20260308T090000
END:DAYLIGHT
BEGIN:STANDARD
TZOFFSETFROM:-0600
TZOFFSETTO:-0700
TZNAME:MST
DTSTART:20261101T080000
END:STANDARD
BEGIN:DAYLIGHT
TZOFFSETFROM:-0700
TZOFFSETTO:-0600
TZNAME:MDT
DTSTART:20270314T090000
END:DAYLIGHT
BEGIN:STANDARD
TZOFFSETFROM:-0600
TZOFFSETTO:-0700
TZNAME:MST
DTSTART:20271107T080000
END:STANDARD
END:VTIMEZONE
BEGIN:VEVENT
DTSTART;TZID=America/Denver:20260501T163000
DTEND;TZID=America/Denver:20260501T183000
DTSTAMP:20260423T183512
CREATED:20260408T143337Z
LAST-MODIFIED:20260408T143337Z
UID:54482-1777653000-1777660200@northerncoloradocommunity.com
SUMMARY:Happy Hour - May 2026
DESCRIPTION:Happy Hour on May 1 from 4:30-6:30 pm at Sugar\, Salt\, Sand at 125 S. College Ave.\, Fort Collins.  Free and open to first time guests and members of NCC. These are on the first Friday of each month. \nIf you plan on attending then please RSVP
URL:https://northerncoloradocommunity.com/event/happy-hour-may-2026/
LOCATION:Sugar\, Salt\, Sand\, 125 S. College Avenue\, Fort Collins\, CO\, 80524\, United States
CATEGORIES:Happy Hour
ATTACH;FMTTYPE=image/png:https://northerncoloradocommunity.com/wp-content/uploads/sugar_salt_sand.png
ORGANIZER;CN="Ann Baron - Northern Colorado Community":MAILTO:ann@northerncoloradocommunity.com
END:VEVENT
BEGIN:VEVENT
DTSTART;TZID=America/Denver:20260506T113000
DTEND;TZID=America/Denver:20260506T130000
DTSTAMP:20260423T183512
CREATED:20260408T143830Z
LAST-MODIFIED:20260408T143830Z
UID:54484-1778067000-1778072400@northerncoloradocommunity.com
SUMMARY:Lunch & Learn - May\, 2026
DESCRIPTION:Lunch & Learn on May 6\, 2026\, from 11:30 am to 1 pm at BBB Office\, 8020 South County Road 5\, Fort Collins\, Colorado. \nJosh Nelson is the speaker and he is the owner of Keystone Financial Services. \nTopic: The presentation focuses on how to think like a CEO rather than just act like an employee in your own business—using better questions\, clearer financial thinking\, and disciplined decision-making to create a business that runs profitably and independently. Sharing a 20-30-minute talk inspired by lessons I’ve learned from my mentor\, Keith Cunningham (aka the real-life “Rich Dad”\, from the book Rich Dad Poor Dad) Attendees will walk away with actionable tools to improve cash flow\, reduce stress\, and make smarter choices that drive long-term success. \nBiography: Josh Nelson is the Founder and CEO of Keystone Financial Services\, a nationally recognized independent wealth management firm based in Colorado. Josh is a Certified Financial Planner™ and a passionate advocate for helping people build a clear\, confident path to financial freedom. Under his leadership\, Keystone has grown into a thriving business that operates with both heart and discipline. Lunch is included therefore please RSVP. These are on the first Wednesday of every month and open to all professionals. \nFree to attend
URL:https://northerncoloradocommunity.com/event/lunch-learn-may-2026/
LOCATION:Better Business Bureau\, 8020 South County Road 5\, Fort Collins\, CO\, 80528\, United States
CATEGORIES:Lunch and Learn
ATTACH;FMTTYPE=image/png:https://northerncoloradocommunity.com/wp-content/uploads/Keystone-Financial-Services-Loveland.png
ORGANIZER;CN="Ann Baron - Northern Colorado Community":MAILTO:ann@northerncoloradocommunity.com
END:VEVENT
BEGIN:VEVENT
DTSTART;TZID=America/Denver:20260512T173000
DTEND;TZID=America/Denver:20260512T193000
DTSTAMP:20260423T183512
CREATED:20260420T143603Z
LAST-MODIFIED:20260420T143746Z
UID:54498-1778607000-1778614200@northerncoloradocommunity.com
SUMMARY:Business After Hours - May 2026
DESCRIPTION:Business After Hours on May 12\, 2026 from 5:30-7:30 pm at Grace Yoga. Free for first time guests and members of Northern Colorado Community. These are on the second Tuesday of each month.
URL:https://northerncoloradocommunity.com/event/business-after-hours-may-2026/
LOCATION:Grace Yoga\, 4520 N. Garfield Ave.\, Loveland\, CO\, 80537\, United States
CATEGORIES:Business After Hours
ATTACH;FMTTYPE=image/jpeg:https://northerncoloradocommunity.com/wp-content/uploads/grace-yoga.jpg
ORGANIZER;CN="Ann Baron - Northern Colorado Community":MAILTO:ann@northerncoloradocommunity.com
END:VEVENT
END:VCALENDAR